BEGIN:VCALENDAR
VERSION:2.0
PRODID:-//Cairo 360 Guide to Cairo, Egypt - ECPv5.5.0.1//NONSGML v1.0//EN
CALSCALE:GREGORIAN
METHOD:PUBLISH
X-WR-CALNAME:Cairo 360 Guide to Cairo, Egypt
X-ORIGINAL-URL:https://cairo360.com
X-WR-CALDESC:Events for Cairo 360 Guide to Cairo, Egypt
BEGIN:VTIMEZONE
TZID:Europe/Helsinki
BEGIN:DAYLIGHT
TZOFFSETFROM:+0200
TZOFFSETTO:+0300
TZNAME:EEST
DTSTART:20230326T010000
END:DAYLIGHT
BEGIN:STANDARD
TZOFFSETFROM:+0300
TZOFFSETTO:+0200
TZNAME:EET
DTSTART:20231029T010000
END:STANDARD
END:VTIMEZONE
BEGIN:VEVENT
DTSTART;TZID=Europe/Helsinki:20231229T200000
DTEND;TZID=Europe/Helsinki:20231229T200000
DTSTAMP:20260424T172122
CREATED:20231226T153405Z
LAST-MODIFIED:20231226T153405Z
UID:1747533-1703880000-1703880000@cairo360.com
SUMMARY:Villa Bazaar at Place Des Arts
DESCRIPTION:The 6th edition of “Villa Bazaar” unfolds in a villa adjacent to Place Des Arts centre\, dedicated to showcasing and uplifting Egyptian entrepreneurs and designers. Join this vibrant marketplace\, where creativity thrives\, fostering support for local talents and innovative endeavours.
URL:https://cairo360.com/event-new/villa-bazaar-at-place-des-arts/
CATEGORIES:Arts & Culture
ATTACH;FMTTYPE=image/jpeg:https://assets.cairo360.com/app/uploads/2023/12/26/413824439_680514614194012_7424677861231768997_n.jpg
END:VEVENT
END:VCALENDAR