BEGIN:VCALENDAR
VERSION:2.0
PRODID:-//Cairo 360 Guide to Cairo, Egypt - ECPv5.5.0.1//NONSGML v1.0//EN
CALSCALE:GREGORIAN
METHOD:PUBLISH
X-WR-CALNAME:Cairo 360 Guide to Cairo, Egypt
X-ORIGINAL-URL:https://cairo360.com
X-WR-CALDESC:Events for Cairo 360 Guide to Cairo, Egypt
BEGIN:VTIMEZONE
TZID:Europe/Helsinki
BEGIN:DAYLIGHT
TZOFFSETFROM:+0200
TZOFFSETTO:+0300
TZNAME:EEST
DTSTART:20230326T010000
END:DAYLIGHT
BEGIN:STANDARD
TZOFFSETFROM:+0300
TZOFFSETTO:+0200
TZNAME:EET
DTSTART:20231029T010000
END:STANDARD
END:VTIMEZONE
BEGIN:VEVENT
DTSTART;VALUE=DATE:20230803
DTEND;VALUE=DATE:20230804
DTSTAMP:20260422T003834
CREATED:20230801T124211Z
LAST-MODIFIED:20230801T124211Z
UID:1738191-1691020800-1691107199@cairo360.com
SUMMARY:The Summer Exhibition at Picasso Art Gallery
DESCRIPTION:Picasso Art Gallery have curated a spectacular summer collection featuring multiple artists that’s all about moving your senses and immersing into the world of colors and textures. Don’t miss the exhibition spanning different mediums like paintings\, sculpture\, and photography running till the end of August.
URL:https://cairo360.com/event-new/the-summer-exhibition-at-picasso-art-gallery/
LOCATION:Picasso Art Gallery\, 30 Hassan Assem\, Mohammed Mazhar\, Zamalek\, Cairo\, Egypt
ATTACH;FMTTYPE=image/jpeg:https://assets.cairo360.com/app/uploads/2023/08/01/IMG-9102-2-scaled-1.jpg
END:VEVENT
END:VCALENDAR