BEGIN:VCALENDAR
VERSION:2.0
PRODID:-//Cairo 360 Guide to Cairo, Egypt - ECPv5.5.0.1//NONSGML v1.0//EN
CALSCALE:GREGORIAN
METHOD:PUBLISH
X-WR-CALNAME:Cairo 360 Guide to Cairo, Egypt
X-ORIGINAL-URL:https://cairo360.com
X-WR-CALDESC:Events for Cairo 360 Guide to Cairo, Egypt
BEGIN:VTIMEZONE
TZID:Europe/Helsinki
BEGIN:DAYLIGHT
TZOFFSETFROM:+0200
TZOFFSETTO:+0300
TZNAME:EEST
DTSTART:20260329T010000
END:DAYLIGHT
BEGIN:STANDARD
TZOFFSETFROM:+0300
TZOFFSETTO:+0200
TZNAME:EET
DTSTART:20261025T010000
END:STANDARD
END:VTIMEZONE
BEGIN:VEVENT
DTSTART;TZID=Europe/Helsinki:20260423T190000
DTEND;TZID=Europe/Helsinki:20260423T213000
DTSTAMP:20260424T132635
CREATED:20260423T145058Z
LAST-MODIFIED:20260423T145058Z
UID:1805755-1776970800-1776979800@cairo360.com
SUMMARY:The MVPs at El Sawy Culturewheel
DESCRIPTION:A comedy-filled night awaits with MVPs Stand Up Comedy at El Sawy Culturewheel on Thursday\, April 23. \nFor more information\, hit this link!
URL:https://cairo360.com/event-new/the-mvps-at-el-sawy-culturewheel/
LOCATION:El Sawy Culturewheel\, 26th of July street\, Zamalek\, Cairo\, 11211\, Egypt
CATEGORIES:Arts & Culture
ATTACH;FMTTYPE=image/jpeg:https://assets.cairo360.com/app/uploads/2026/04/23/el-sawy-apr-23.jpg
END:VEVENT
END:VCALENDAR