BEGIN:VCALENDAR
VERSION:2.0
PRODID:-//Cairo 360 Guide to Cairo, Egypt - ECPv5.5.0.1//NONSGML v1.0//EN
CALSCALE:GREGORIAN
METHOD:PUBLISH
X-WR-CALNAME:Cairo 360 Guide to Cairo, Egypt
X-ORIGINAL-URL:https://cairo360.com
X-WR-CALDESC:Events for Cairo 360 Guide to Cairo, Egypt
BEGIN:VTIMEZONE
TZID:Europe/Helsinki
BEGIN:DAYLIGHT
TZOFFSETFROM:+0200
TZOFFSETTO:+0300
TZNAME:EEST
DTSTART:20260329T010000
END:DAYLIGHT
BEGIN:STANDARD
TZOFFSETFROM:+0300
TZOFFSETTO:+0200
TZNAME:EET
DTSTART:20261025T010000
END:STANDARD
END:VTIMEZONE
BEGIN:VEVENT
DTSTART;TZID=Europe/Helsinki:20260424T130000
DTEND;TZID=Europe/Helsinki:20260424T220000
DTSTAMP:20260424T142816
CREATED:20260423T135933Z
LAST-MODIFIED:20260423T135933Z
UID:1805709-1777035600-1777068000@cairo360.com
SUMMARY:Street  WOC
DESCRIPTION:Street culture comes alive at Walk Of Cairo\, WOC\, on Friday\, April 24. \nFor more information\, hit this link!
URL:https://cairo360.com/event-new/street-woc/
LOCATION:Walk Of Cairo\, Sheikh Zayed
CATEGORIES:Arts & Culture
ATTACH;FMTTYPE=image/jpeg:https://assets.cairo360.com/app/uploads/2026/04/23/FastDl.dev_670562426_18240616264307551_6713052803684859419_n.jpg
END:VEVENT
END:VCALENDAR