BEGIN:VCALENDAR
VERSION:2.0
PRODID:-//Cairo 360 Guide to Cairo, Egypt - ECPv5.5.0.1//NONSGML v1.0//EN
CALSCALE:GREGORIAN
METHOD:PUBLISH
X-WR-CALNAME:Cairo 360 Guide to Cairo, Egypt
X-ORIGINAL-URL:https://cairo360.com
X-WR-CALDESC:Events for Cairo 360 Guide to Cairo, Egypt
BEGIN:VTIMEZONE
TZID:Europe/Helsinki
BEGIN:DAYLIGHT
TZOFFSETFROM:+0200
TZOFFSETTO:+0300
TZNAME:EEST
DTSTART:20260329T010000
END:DAYLIGHT
BEGIN:STANDARD
TZOFFSETFROM:+0300
TZOFFSETTO:+0200
TZNAME:EET
DTSTART:20261025T010000
END:STANDARD
END:VTIMEZONE
BEGIN:VEVENT
DTSTART;TZID=Europe/Helsinki:20260330T200000
DTEND;TZID=Europe/Helsinki:20260330T230000
DTSTAMP:20260425T224154
CREATED:20260329T202027Z
LAST-MODIFIED:20260329T202027Z
UID:1804472-1774900800-1774911600@cairo360.com
SUMMARY:Salsa Class at CJC 610
DESCRIPTION:Catch the Salsa Class at Cairo Jazz Club 610 on Monday\, March 30. \nFor more information\, hit this link!
URL:https://cairo360.com/event-new/salsa-class-at-cjc-610/
LOCATION:Cairo Jazz Club 610\, El Guezira Plaza\, Sheikh Zayed Cairo\, Cairo\, Egypt
CATEGORIES:Arts & Culture
ATTACH;FMTTYPE=image/jpeg:https://assets.cairo360.com/app/uploads/2026/03/29/cjc-610-mar-30.jpg
END:VEVENT
END:VCALENDAR