BEGIN:VCALENDAR
VERSION:2.0
PRODID:-//Cairo 360 Guide to Cairo, Egypt - ECPv5.5.0.1//NONSGML v1.0//EN
CALSCALE:GREGORIAN
METHOD:PUBLISH
X-WR-CALNAME:Cairo 360 Guide to Cairo, Egypt
X-ORIGINAL-URL:https://cairo360.com
X-WR-CALDESC:Events for Cairo 360 Guide to Cairo, Egypt
BEGIN:VTIMEZONE
TZID:Europe/Helsinki
BEGIN:DAYLIGHT
TZOFFSETFROM:+0200
TZOFFSETTO:+0300
TZNAME:EEST
DTSTART:20260329T010000
END:DAYLIGHT
BEGIN:STANDARD
TZOFFSETFROM:+0300
TZOFFSETTO:+0200
TZNAME:EET
DTSTART:20261025T010000
END:STANDARD
END:VTIMEZONE
BEGIN:VEVENT
DTSTART;TZID=Europe/Helsinki:20260419T183000
DTEND;TZID=Europe/Helsinki:20260419T213000
DTSTAMP:20260422T225352
CREATED:20260418T122157Z
LAST-MODIFIED:20260418T122226Z
UID:1805524-1776623400-1776634200@cairo360.com
SUMMARY:National Arab Music Ensemble at Cairo Opera House
DESCRIPTION:Experience the National Arab Music Ensemble at Cairo Opera House on Sunday\, April 19. \nFor more information\, hit this link!
URL:https://cairo360.com/event-new/national-arab-music-ensemble-at-cairo-opera-house-4/
LOCATION:Cairo Opera House\, Ard El Opera - Gezira - Zamalek Cairo Opera House Cairo\,\, Cairo\, 11567\, Egypt
CATEGORIES:Arts & Culture
ATTACH;FMTTYPE=image/png:https://assets.cairo360.com/app/uploads/2026/04/18/National-Arab-Music-Ensemble-19-Apr.png
END:VEVENT
END:VCALENDAR