BEGIN:VCALENDAR
VERSION:2.0
PRODID:-//Cairo 360 Guide to Cairo, Egypt - ECPv5.5.0.1//NONSGML v1.0//EN
CALSCALE:GREGORIAN
METHOD:PUBLISH
X-WR-CALNAME:Cairo 360 Guide to Cairo, Egypt
X-ORIGINAL-URL:https://cairo360.com
X-WR-CALDESC:Events for Cairo 360 Guide to Cairo, Egypt
BEGIN:VTIMEZONE
TZID:Europe/Helsinki
BEGIN:DAYLIGHT
TZOFFSETFROM:+0200
TZOFFSETTO:+0300
TZNAME:EEST
DTSTART:20260329T010000
END:DAYLIGHT
BEGIN:STANDARD
TZOFFSETFROM:+0300
TZOFFSETTO:+0200
TZNAME:EET
DTSTART:20261025T010000
END:STANDARD
END:VTIMEZONE
BEGIN:VEVENT
DTSTART;TZID=Europe/Helsinki:20260423T200000
DTEND;TZID=Europe/Helsinki:20260423T230000
DTSTAMP:20260424T114959
CREATED:20260423T144536Z
LAST-MODIFIED:20260423T144536Z
UID:1805747-1776974400-1776985200@cairo360.com
SUMMARY:Gohar B2B Zawahry at The Tap East
DESCRIPTION:Don’t miss Gohar B2B Zawahry at The Tap East on Thursday\, April 23. \nFor more information\, hit this link!
URL:https://cairo360.com/event-new/gohar-b2b-zawahry-at-the-tap-east/
LOCATION:The Tap East\, 9 Mohamed Naguib St.\, Stella New Cairo\, Cairo\, Egypt
CATEGORIES:Arts & Culture
ATTACH;FMTTYPE=image/jpeg:https://assets.cairo360.com/app/uploads/2026/04/23/FastDl.dev_670879465_17991213626954084_319268428806377658_n.jpg
END:VEVENT
END:VCALENDAR