BEGIN:VCALENDAR
VERSION:2.0
PRODID:-//Cairo 360 Guide to Cairo, Egypt - ECPv5.5.0.1//NONSGML v1.0//EN
CALSCALE:GREGORIAN
METHOD:PUBLISH
X-WR-CALNAME:Cairo 360 Guide to Cairo, Egypt
X-ORIGINAL-URL:https://cairo360.com
X-WR-CALDESC:Events for Cairo 360 Guide to Cairo, Egypt
BEGIN:VTIMEZONE
TZID:Europe/Helsinki
BEGIN:DAYLIGHT
TZOFFSETFROM:+0200
TZOFFSETTO:+0300
TZNAME:EEST
DTSTART:20260329T010000
END:DAYLIGHT
BEGIN:STANDARD
TZOFFSETFROM:+0300
TZOFFSETTO:+0200
TZNAME:EET
DTSTART:20261025T010000
END:STANDARD
END:VTIMEZONE
BEGIN:VEVENT
DTSTART;TZID=Europe/Helsinki:20260330T183000
DTEND;TZID=Europe/Helsinki:20260330T213000
DTSTAMP:20260421T050211
CREATED:20260330T013010Z
LAST-MODIFIED:20260330T013010Z
UID:1804496-1774895400-1774906200@cairo360.com
SUMMARY:El Andalib Concert at Cairo Opera House
DESCRIPTION:Experience El Andalib Concert honouring El Andalib El Asmar at Cairo Opera House on Monday\, March 30. \nFor more information\, hit this link!
URL:https://cairo360.com/event-new/el-andalib-concert-at-cairo-opera-house/
LOCATION:Cairo Opera House\, Ard El Opera - Gezira - Zamalek Cairo Opera House Cairo\,\, Cairo\, 11567\, Egypt
CATEGORIES:Arts & Culture
ATTACH;FMTTYPE=image/png:https://assets.cairo360.com/app/uploads/2026/03/30/El-Andalib-Concert-30-Mar.png
END:VEVENT
END:VCALENDAR