BEGIN:VCALENDAR
VERSION:2.0
PRODID:-//Cairo 360 Guide to Cairo, Egypt - ECPv5.5.0.1//NONSGML v1.0//EN
CALSCALE:GREGORIAN
METHOD:PUBLISH
X-WR-CALNAME:Cairo 360 Guide to Cairo, Egypt
X-ORIGINAL-URL:https://cairo360.com
X-WR-CALDESC:Events for Cairo 360 Guide to Cairo, Egypt
BEGIN:VTIMEZONE
TZID:Europe/Helsinki
BEGIN:DAYLIGHT
TZOFFSETFROM:+0200
TZOFFSETTO:+0300
TZNAME:EEST
DTSTART:20230326T010000
END:DAYLIGHT
BEGIN:STANDARD
TZOFFSETFROM:+0300
TZOFFSETTO:+0200
TZNAME:EET
DTSTART:20231029T010000
END:STANDARD
END:VTIMEZONE
BEGIN:VEVENT
DTSTART;TZID=Europe/Helsinki:20231225T130000
DTEND;TZID=Europe/Helsinki:20231225T170000
DTSTAMP:20260423T004027
CREATED:20231225T115000Z
LAST-MODIFIED:20231225T115000Z
UID:1746980-1703509200-1703523600@cairo360.com
SUMMARY:Christmas Afternoon Tea at Four Seasons Nile Plaza’s La Galerie
DESCRIPTION:Resembling a lavish living room\, La Galeri at the Four Seasons Hotel Cairo at Nile Plaza will host a Christmas Afternoon Tea for you and your loved ones. 
URL:https://cairo360.com/event-new/christmas-afternoon-tea-at-four-seasons-nile-plazas-la-galerie/
LOCATION:Four Seasons Nile Plaza Hotel
CATEGORIES:City Life
ATTACH;FMTTYPE=image/jpeg:https://assets.cairo360.com/app/uploads/2023/12/19/2020-07-06.jpeg
END:VEVENT
END:VCALENDAR