BEGIN:VCALENDAR
VERSION:2.0
PRODID:-//Cairo 360 Guide to Cairo, Egypt - ECPv5.5.0.1//NONSGML v1.0//EN
CALSCALE:GREGORIAN
METHOD:PUBLISH
X-WR-CALNAME:Cairo 360 Guide to Cairo, Egypt
X-ORIGINAL-URL:https://cairo360.com
X-WR-CALDESC:Events for Cairo 360 Guide to Cairo, Egypt
BEGIN:VTIMEZONE
TZID:Europe/Helsinki
BEGIN:DAYLIGHT
TZOFFSETFROM:+0200
TZOFFSETTO:+0300
TZNAME:EEST
DTSTART:20230326T010000
END:DAYLIGHT
BEGIN:STANDARD
TZOFFSETFROM:+0300
TZOFFSETTO:+0200
TZNAME:EET
DTSTART:20231029T010000
END:STANDARD
END:VTIMEZONE
BEGIN:VEVENT
DTSTART;TZID=Europe/Helsinki:20231229T200000
DTEND;TZID=Europe/Helsinki:20231229T200000
DTSTAMP:20260422T172910
CREATED:20231226T150056Z
LAST-MODIFIED:20231226T150056Z
UID:1747504-1703880000-1703880000@cairo360.com
SUMMARY:Charlie at Al Masrah
DESCRIPTION:Taking over Al Masrah\, Movenpick Media City\, this Friday is Charlie. Bringing you a theatrical masterpiece starting the 28th of December to the 7th of January\, don’t miss out on the musical commemorating the life of the iconic Charlie Chaplin.
URL:https://cairo360.com/event-new/charlie-at-al-masrah/
CATEGORIES:Arts & Culture
ATTACH;FMTTYPE=image/jpeg:https://assets.cairo360.com/app/uploads/2023/12/26/charlie.jpg
END:VEVENT
END:VCALENDAR