BEGIN:VCALENDAR
VERSION:2.0
PRODID:-//Cairo 360 Guide to Cairo, Egypt - ECPv5.5.0.1//NONSGML v1.0//EN
CALSCALE:GREGORIAN
METHOD:PUBLISH
X-WR-CALNAME:Cairo 360 Guide to Cairo, Egypt
X-ORIGINAL-URL:https://cairo360.com
X-WR-CALDESC:Events for Cairo 360 Guide to Cairo, Egypt
BEGIN:VTIMEZONE
TZID:Europe/Helsinki
BEGIN:DAYLIGHT
TZOFFSETFROM:+0200
TZOFFSETTO:+0300
TZNAME:EEST
DTSTART:20210328T010000
END:DAYLIGHT
BEGIN:STANDARD
TZOFFSETFROM:+0300
TZOFFSETTO:+0200
TZNAME:EET
DTSTART:20211031T010000
END:STANDARD
END:VTIMEZONE
BEGIN:VEVENT
DTSTART;TZID=Europe/Helsinki:20211224T070000
DTEND;TZID=Europe/Helsinki:20211224T100000
DTSTAMP:20260424T052846
CREATED:20211223T105158Z
LAST-MODIFIED:20211223T110954Z
UID:1696298-1640329200-1640340000@cairo360.com
SUMMARY:Bescletta Bicycle Ride in Garden City
DESCRIPTION:Biscletta organized an incredible bicycle ride in Garden City through El Mohandsein\, one of Cairo’s most beautiful areas. The ride’s meeting point is in Gameat El Dewal street then it goes throughout the El Mohandsein neighborhood before returning to the starting point. There is no better way to start your Friday morning than with a lovely ride to get your day going on a healthy note. The ride is 15 km and will include a photography team and a support car but no learning is allowed during the ride and everyone will receive a safety vest and it’s all completely free. \nThe ride is on Friday the 24th of December and anyone is welcome to join. \nPS: if you don’t own a bicycle\, you can rent one for the duration of the ride for 50 LE including all previously mentioned above but you need to reserve through this link then to proceed to payment.
URL:https://cairo360.com/event-new/bescletta-bicycle-ride-in-garden-city/
LOCATION:Garden City
CATEGORIES:Arts & Culture,City Life
ATTACH;FMTTYPE=image/jpeg:https://assets.cairo360.com/app/uploads/2021/12/23/269526695_4582845718436696_3331780635568162378_n.jpg
END:VEVENT
END:VCALENDAR