BEGIN:VCALENDAR
VERSION:2.0
PRODID:-//Cairo 360 Guide to Cairo, Egypt - ECPv5.5.0.1//NONSGML v1.0//EN
CALSCALE:GREGORIAN
METHOD:PUBLISH
X-WR-CALNAME:Cairo 360 Guide to Cairo, Egypt
X-ORIGINAL-URL:https://cairo360.com
X-WR-CALDESC:Events for Cairo 360 Guide to Cairo, Egypt
BEGIN:VTIMEZONE
TZID:Europe/Helsinki
BEGIN:DAYLIGHT
TZOFFSETFROM:+0200
TZOFFSETTO:+0300
TZNAME:EEST
DTSTART:20230326T010000
END:DAYLIGHT
BEGIN:STANDARD
TZOFFSETFROM:+0300
TZOFFSETTO:+0200
TZNAME:EET
DTSTART:20231029T010000
END:STANDARD
END:VTIMEZONE
BEGIN:VEVENT
DTSTART;VALUE=DATE:20230803
DTEND;VALUE=DATE:20230804
DTSTAMP:20260422T053605
CREATED:20230803T140032Z
LAST-MODIFIED:20230803T140032Z
UID:1738419-1691020800-1691107199@cairo360.com
SUMMARY:Astral Showcase at Masha's Bay
DESCRIPTION:Masha’s Bay is set to make a grand entrance with an electrifying record showcase presented by Astral Records\, featuring top-notch international artists who will keep the energy high all night long. Don’t miss out on the party of the year – grab your tickets now through Collard Tickets and get ready to dance the night away!
URL:https://cairo360.com/event-new/astral-showcase-at-mashas-bay/
LOCATION:Masha Bay
ATTACH;FMTTYPE=image/jpeg:https://assets.cairo360.com/app/uploads/2023/08/02/Mashas-X-Astral-1250x450-2.jpeg
END:VEVENT
END:VCALENDAR