BEGIN:VCALENDAR
VERSION:2.0
PRODID:-//دليل كايرو 360 للقاهرة، مصر - ECPv5.5.0.1//NONSGML v1.0//EN
CALSCALE:GREGORIAN
METHOD:PUBLISH
X-WR-CALNAME:دليل كايرو 360 للقاهرة، مصر
X-ORIGINAL-URL:https://cairo360.com/ar/
X-WR-CALDESC:Events for دليل كايرو 360 للقاهرة، مصر
BEGIN:VTIMEZONE
TZID:Europe/Helsinki
BEGIN:DAYLIGHT
TZOFFSETFROM:+0200
TZOFFSETTO:+0300
TZNAME:EEST
DTSTART:20250330T010000
END:DAYLIGHT
BEGIN:STANDARD
TZOFFSETFROM:+0300
TZOFFSETTO:+0200
TZNAME:EET
DTSTART:20251026T010000
END:STANDARD
END:VTIMEZONE
BEGIN:VEVENT
DTSTART;TZID=Europe/Helsinki:20251225T200000
DTEND;TZID=Europe/Helsinki:20251225T230000
DTSTAMP:20260425T175020
CREATED:20251224T141233Z
LAST-MODIFIED:20251224T141233Z
UID:1800156-1766692800-1766703600@cairo360.com
SUMMARY:The Village West روبي في
DESCRIPTION:لا تفوتوا الافتتاح الكبير لـ The Village West يوم الخميس 25 ديسمبر، مع ليلة استثنائية تجمع بين النجمة روبي وDJ رودج في أجواء مليئة بالموسيقى والطاقة والاحتفال. استعدوا لسهرة لا تُنسى مع مزيج من الإيقاعات الحماسية والعروض المميزة. \nالتفاصيل هنا. \n 
URL:https://cairo360.com/ar/event-new/the-village-west-%d8%b1%d9%88%d8%a8%d9%8a-%d9%81%d9%8a/
LOCATION:The Village West
CATEGORIES:فن وثقافة
ATTACH;FMTTYPE=image/jpeg:https://assets.cairo360.com/app/uploads/2025/12/22/FastDL.Net_601975586_17892793509383164_1250996439232452969_n.jpg
END:VEVENT
END:VCALENDAR