BEGIN:VCALENDAR
VERSION:2.0
PRODID:-//دليل كايرو 360 للقاهرة، مصر - ECPv5.5.0.1//NONSGML v1.0//EN
CALSCALE:GREGORIAN
METHOD:PUBLISH
X-WR-CALNAME:دليل كايرو 360 للقاهرة، مصر
X-ORIGINAL-URL:https://cairo360.com/ar/
X-WR-CALDESC:Events for دليل كايرو 360 للقاهرة، مصر
BEGIN:VTIMEZONE
TZID:Europe/Helsinki
BEGIN:DAYLIGHT
TZOFFSETFROM:+0200
TZOFFSETTO:+0300
TZNAME:EEST
DTSTART:20240331T010000
END:DAYLIGHT
BEGIN:STANDARD
TZOFFSETFROM:+0300
TZOFFSETTO:+0200
TZNAME:EET
DTSTART:20241027T010000
END:STANDARD
END:VTIMEZONE
BEGIN:VEVENT
DTSTART;TZID=Europe/Helsinki:20240721T110000
DTEND;TZID=Europe/Helsinki:20240919T203000
DTSTAMP:20260421T023657
CREATED:20240720T231002Z
LAST-MODIFIED:20240720T231002Z
UID:1764066-1721559600-1726777800@cairo360.com
SUMMARY:معرض "رؤى معاصرة" في المسار جاليري
DESCRIPTION:استمتعوا بمعرض “رؤى معاصرة” في نسخته ال 17 في المسار جاليري. الدخول مجانًا.. لتفاصيل أكتر هنـــا.
URL:https://cairo360.com/ar/event-new/%d9%85%d8%b9%d8%b1%d8%b6-%d8%b1%d8%a4%d9%89-%d9%85%d8%b9%d8%a7%d8%b5%d8%b1%d8%a9-%d9%81%d9%8a-%d8%a7%d9%84%d9%85%d8%b3%d8%a7%d8%b1-%d8%ac%d8%a7%d9%84%d9%8a%d8%b1%d9%8a/
LOCATION:المسار جاليري\, : 157ب، شارع 26 يوليو، الزمالك، القاهرة
CATEGORIES:فن وثقافة
ATTACH;FMTTYPE=image/jpeg:https://assets.cairo360.com/app/uploads/2024/07/21/451488030_1022732023194187_5485458269999038678_n.jpg
END:VEVENT
END:VCALENDAR