BEGIN:VCALENDAR
VERSION:2.0
PRODID:-//دليل كايرو 360 للقاهرة، مصر - ECPv5.5.0.1//NONSGML v1.0//EN
CALSCALE:GREGORIAN
METHOD:PUBLISH
X-WR-CALNAME:دليل كايرو 360 للقاهرة، مصر
X-ORIGINAL-URL:https://cairo360.com/ar/
X-WR-CALDESC:Events for دليل كايرو 360 للقاهرة، مصر
BEGIN:VTIMEZONE
TZID:Europe/Helsinki
BEGIN:DAYLIGHT
TZOFFSETFROM:+0200
TZOFFSETTO:+0300
TZNAME:EEST
DTSTART:20240331T010000
END:DAYLIGHT
BEGIN:STANDARD
TZOFFSETFROM:+0300
TZOFFSETTO:+0200
TZNAME:EET
DTSTART:20241027T010000
END:STANDARD
END:VTIMEZONE
BEGIN:VEVENT
DTSTART;TZID=Europe/Helsinki:20240809T223000
DTEND;TZID=Europe/Helsinki:20240809T233000
DTSTAMP:20260421T144523
CREATED:20240807T155738Z
LAST-MODIFIED:20240807T155738Z
UID:1765570-1723242600-1723246200@cairo360.com
SUMMARY:حفل محمود الليثي في نوتش بيتش
DESCRIPTION:استمتعوا بحفل الفنان محمود الليثي في نوتش بيتش.. للتفاصيل والحجز من هنـــــــا.
URL:https://cairo360.com/ar/event-new/%d8%ad%d9%81%d9%84-%d9%85%d8%ad%d9%85%d9%88%d8%af-%d8%a7%d9%84%d9%84%d9%8a%d8%ab%d9%8a-%d9%81%d9%8a-%d9%86%d9%88%d8%aa%d8%b4-%d8%a8%d9%8a%d8%aa%d8%b4/
LOCATION:Notch Beach Club
CATEGORIES:فن وثقافة
ATTACH;FMTTYPE=image/png:https://assets.cairo360.com/app/uploads/2024/08/07/لقطة-الشاشة-2024-08-07-185344.png
END:VEVENT
END:VCALENDAR