BEGIN:VCALENDAR
VERSION:2.0
PRODID:-//دليل كايرو 360 للقاهرة، مصر - ECPv5.5.0.1//NONSGML v1.0//EN
CALSCALE:GREGORIAN
METHOD:PUBLISH
X-WR-CALNAME:دليل كايرو 360 للقاهرة، مصر
X-ORIGINAL-URL:https://cairo360.com/ar/
X-WR-CALDESC:Events for دليل كايرو 360 للقاهرة، مصر
BEGIN:VTIMEZONE
TZID:Europe/Helsinki
BEGIN:DAYLIGHT
TZOFFSETFROM:+0200
TZOFFSETTO:+0300
TZNAME:EEST
DTSTART:20240331T010000
END:DAYLIGHT
BEGIN:STANDARD
TZOFFSETFROM:+0300
TZOFFSETTO:+0200
TZNAME:EET
DTSTART:20241027T010000
END:STANDARD
END:VTIMEZONE
BEGIN:VEVENT
DTSTART;TZID=Europe/Helsinki:20240809T220000
DTEND;TZID=Europe/Helsinki:20240809T233000
DTSTAMP:20260424T062548
CREATED:20240806T184959Z
LAST-MODIFIED:20240806T184959Z
UID:1765461-1723240800-1723246200@cairo360.com
SUMMARY:حفل الفنانة أمينة في مراسي
DESCRIPTION:استمتعوا بحفل الفنانة أمينة في مراسي.. لو حابب تعرف تفاصيل أكتر هنـــــا.
URL:https://cairo360.com/ar/event-new/%d8%ad%d9%81%d9%84-%d8%a7%d9%84%d9%81%d9%86%d8%a7%d9%86%d8%a9-%d8%a3%d9%85%d9%8a%d9%86%d8%a9-%d9%81%d9%8a-%d9%85%d8%b1%d8%a7%d8%b3%d9%8a/
LOCATION:مراسي
CATEGORIES:فن وثقافة
ATTACH;FMTTYPE=image/png:https://assets.cairo360.com/app/uploads/2024/08/06/لقطة-الشاشة-2024-08-06-214204.png
END:VEVENT
END:VCALENDAR